BEGIN:VCALENDAR
VERSION:2.0
PRODID:-//pretix//MN_Marketing_Network//
BEGIN:VEVENT
UID:pretix-ASMET-galvatech2021-ve-0@register.asmet.org
DTSTART;VALUE=DATE:20210621
DTEND;VALUE=DATE:20210624
DESCRIPTION:Tickets: https://register.asmet.org/ASMET/galvatech2021-ve/\nOr
 ganizer: ASMET | The Austrian Society for Metallurgy and Materials
DTSTAMP:20260424T062434Z
LOCATION:Virtual Event
SUMMARY:[Virtual] 12th International Conference on Zinc & Zinc Alloy Coated
  Steel Sheet - GALVATECH 2021
END:VEVENT
END:VCALENDAR
